BEGIN:VCALENDAR
VERSION:2.0
PRODID:-//TYPO3/NONSGML Calendarize//EN
BEGIN:VEVENT
UID:calendarize-digital-lotsinnen-schulung-informationsveranstaltung
DTSTAMP:20260325T092225Z
DTSTART:20260330T140000Z
DTEND:20260330T150000Z
SUMMARY:Digital-Lots*innen-Schulung: Informationsveranstaltung
DESCRIPTION:
X-ALT-DESC;FMTTYPE=text/html:
LOCATION:
END:VEVENT
END:VCALENDAR
